Workbook

Sheet Liste
A1: Nr | B1: Schule | C1: Kürzel | D1: WK-Klasse
A2: 1 | B2: Staatliche Berufsschule des bbw Südhessens | C2: SBSH | D2: WK I männlich | F2: 1 | G2: Staatliche Berufsschule des bbw Südhessens | H2: SBSH | I2: WK I männlich
A3: 2 | B3: Lehrerteam IV | C3: PS | D3: WK III mixed | F3: 5 | G3: Schulzentrum Marienhöhe | H3: SZM | I3: WK I männlich
A4: 3 | B4: Schule an der Brühlsbacher Warte 1 | C4: SBW | D4: WK II männlich | F4: 6 | G4: Kaufmännische Schulen Marburg | H4: KSM | I4: WK I männlich
A5: 4 | B5: Schule an der Brühlsbacher Warte 2 | C5: SBW II | D5: WK II männlich | F5: 7 | G5: Schuldorf Bergstraße | H5: SBS | I5: WK I männlich
A6: 5 | B6: Schulzentrum Marienhöhe | C6: SZM | D6: WK I männlich | F6: 9 | G6: Mittelpunktschule Gadernheim | H6: MPG | I6: WK I männlich
A7: 6 | B7: Kaufmännische Schulen Marburg | C7: KSM | D7: WK I männlich | F7: 10 | G7: Georg-Büchner-Schule Stadtallendorf | H7: GBSS | I7: WK I männlich
A8: 7 | B8: Schuldorf Bergstraße | C8: SBS | D8: WK I männlich | F8: 11 | G8: Max-Eyth-Schule Dreieich | H8: MES | I8: WK I männlich
A9: 8 | B9: Prälat-Diehl-Schule Groß-Gerau | C9: PDS | D9: WK II mixed | F9: 12 | G9: Georg-Christoph-Lichtenberg-Schule | H9: GCLS | I9: WK I männlich
A10: 9 | B10: Mittelpunktschule Gadernheim | C10: MPG | D10: WK I männlich
A11: 10 | B11: Georg-Büchner-Schule Stadtallendorf | C11: GBSS | D11: WK I männlich
A12: 11 | B12: Max-Eyth-Schule Dreieich | C12: MES | D12: WK I männlich
A13: 12 | B13: Georg-Christoph-Lichtenberg-Schule | C13: GCLS | D13: WK I männlich
A14: 13 | B14: Prälat-Diehl-Schule Groß-Gerau | C14: PDS | D14: WK III männlich
A15: 14 | B15: Georg-Büchner-Schule Stadtallendorf | C15: GBSS II | D15: WK III männlich | F15: 15 | G15: Friedrich-Ebert-Schule Pfungstadt | H15: FES | I15: WK I weiblich
A16: 15 | B16: Friedrich-Ebert-Schule Pfungstadt | C16: FES | D16: WK I weiblich | F16: 16 | G16: Schuldorf Bergstraße | H16: SBS | I16: WK I weiblich
A17: 16 | B17: Schuldorf Bergstraße | C17: SBS | D17: WK I weiblich | F17: 17 | G17: Georg-Christoph-Lichtenberg-Schule OR | H17: GCLS | I17: WK I weiblich
A18: 17 | B18: Georg-Christoph-Lichtenberg-Schule OR | C18: GCLS | D18: WK I weiblich
A19: 18 | B19: Lehrerteam I | C19: FL | D19: WK III mixed
A20: 19 | B20: Lehrerteam II | C20: JU | D20: WK III mixed | F20: 20 | G20: Gerhart-Hauptmann-Schule Rüsselsheim | H20: GHS | I20: WK I mixed
A21: 20 | B21: Gerhart-Hauptmann-Schule Rüsselsheim | C21: GHS | D21: WK I mixed | F21: 21 | G21: Bertolt-Brecht-Schule | H21: BBS | I21: WK I mixed
A22: 21 | B22: Bertolt-Brecht-Schule | C22: BBS | D22: WK I mixed | F22: 22 | G22: Westerwaldschule Driedorf | H22: WWS | I22: WK I mixed
A23: 22 | B23: Westerwaldschule Driedorf | C23: WWS | D23: WK I mixed
A24: 23 | B24: Lehrerteam III | C24: GZ | D24: WK III mixed
A25: 25 | B25: Johann-Christian-Senckenberg-Schule Runkel | C25: JCSS | D25: WK II männlich
A26: 26 | B26: Liebigschule Gießen | C26: LSG I | D26: WK II männlich | F26: 3 | G26: Schule an der Brühlsbacher Warte | H26: SBW | I26: WK II männlich
A27: 27 | B27: Liebigschule Gießen | C27: LSG II | D27: WK II männlich | F27: 4 | G27: Schule an der Brühlsbacher Warte | H27: SBW II | I27: WK II männlich
A28: 28 | B28: Schulzentrum Marienhöhe I | C28: SZM | D28: WK II männlich | F28: 25 | G28: Johann-Christian-Senckenberg-Schule Runkel | H28: JCSS | I28: WK II männlich
A29: 29 | B29: Schulzentrum Marienhöhe II | C29: SZM II | D29: WK II männlich | F29: 26 | G29: Liebigschule Gießen | H29: LSG I | I29: WK II männlich
A30: 30 | B30: Gerhart-Hauptmann-Schule | C30: GHS | D30: WK II männlich | F30: 27 | G30: Liebigschule Gießen | H30: LSG II | I30: WK II männlich
A31: 32 | B31: Eleonorenschule Darmstadt I | C31: ELO | D31: WK II männlich | F31: 28 | G31: Schulzentrum Marienhöhe | H31: SZM | I31: WK II männlich
A32: 33 | B32: Eleonorenschule Darmstadt II | C32: ELO II | D32: WK II männlich | F32: 29 | G32: Schulzentrum Marienhöhe | H32: SZM II | I32: WK II männlich
A33: 34 | B33: Fürst-Johann-Ludwig-Schule Hadamar I | C33: FJLS | D33: WK II männlich | F33: 30 | G33: Gerhart-Hauptmann-Schule | H33: GHS | I33: WK II männlich
A34: 35 | B34: Fürst-Johann-Ludwig-Schule Hadamar II | C34: FJLS 2 | D34: WK II männlich | F34: 32 | G34: Eleonorenschule Darmstadt | H34: ELO | I34: WK II männlich
A35: 36 | B35: August-Hermann-Francke Schule Gießen | C35: AHFS | D35: WK II männlich | F35: 33 | G35: Eleonorenschule Darmstadt | H35: ELO II | I35: WK II männlich
A36: 37 | B36: Alexander-von-Humboldt-Schule Aßlar | C36: AVH | D36: WK II männlich | F36: 34 | G36: Fürst-Johann-Ludwig-Schule Hadamar | H36: FJLS | I36: WK II männlich
A37: 39 | B37: Mittelpunktschule Gadernheim I | C37: MPG | D37: WK II männlich | F37: 35 | G37: Fürst-Johann-Ludwig-Schule Hadamar | H37: FJLS 2 | I37: WK II männlich
... A44: 47 | B44: Erich Kästner-Schule DA II | C44: EKS II | D44: WK II weiblich | F44: 43 | G44: Georg-Christoph-Lichtenberg-Schule OR | H44: GCLS | I44: WK II männlich
A45: 48 | B45: Schuldorf Bergstraße | C45: SBS | D45: WK II weiblich
A46: 49 | B46: Eleonorenschule DA | C46: ELO | D46: WK II weiblich | F46: 45 | G46: Friedrich-Ebert-Schule Pfungstadt | H46: FES | I46: WK II weiblich
A47: 50 | B47: Georg-Christoph-Lichtenberg-Schule | C47: GCLS | D47: WK II weiblich | F47: 46 | G47: Erich Kästner-Schule DA | H47: EKS I | I47: WK II weiblich
A48: 52 | B48: Max-Planck Schule Rüsselsheim | C48: MPS | D48: WK II mixed | F48: 47 | G48: Erich Kästner-Schule DA | H48: EKS II | I48: WK II weiblich
A49: 54 | B49: Eleonorenschule DA | C49: ELO | D49: WK II mixed | F49: 48 | G49: Schuldorf Bergstraße | H49: SBS | I49: WK II weiblich
A50: 55 | B50: Heinrich-von-Gagern Schule Weilburg | C50: HVG | D50: WK II mixed | F50: 49 | G50: Eleonorenschule DA | H50: ELO | I50: WK II weiblich
A51: 56 | B51: Lüdertalschule | C51: LTS | D51: WK II mixed | F51: 50 | G51: Georg-Christoph-Lichtenberg-Schule | H51: GCLS | I51: WK II weiblich
A52: 57 | B52: Ludwig-Georgs-Gymnasium DA | C52: LGG | D52: WK II mixed
A53: 58 | B53: Georg-Büchner-Schule Stadtallendorf | C53: GBSS | D53: WK II mixed | F53: 8 | G53: Prälat-Diehl-Schule Groß-Gerau | H53: PDS | I53: WK II mixed
A54: 59 | B54: Georg-Christoph-Lichtenberg-Schule OR | C54: GCLS | D54: WK II mixed | F54: 52 | G54: Max-Planck Schule Rüsselsheim | H54: MPS | I54: WK II mixed
A55: 61 | B55: Gerhart-Hauptmann-Schule | C55: GHS | D55: WK III männlich | F55: 54 | G55: Eleonorenschule DA | H55: ELO | I55: WK II mixed
A56: 62 | B56: Gesamtschule Ebsdorfer Grund | C56: GEG | D56: WK III männlich | F56: 55 | G56: Heinrich-von-Gagern Schule Weilburg | H56: HVG | I56: WK II mixed
A57: 63 | B57: Friedrich-Ebert-Schule | C57: FES | D57: WK III männlich | F57: 56 | G57: Lüdertalschule | H57: LTS | I57: WK II mixed
A58: 64 | B58: Erich Kästner-Schule Darmstadt | C58: EKS | D58: WK III männlich | F58: 57 | G58: Ludwig-Georgs-Gymnasium DA | H58: LGG | I58: WK II mixed
A59: 66 | B59: Eleonorenschule Darmstadt | C59: ELO | D59: WK III männlich | F59: 58 | G59: Georg-Büchner-Schule Stadtallendorf | H59: GBSS | I59: WK II mixed
A60: 67 | B60: Lüdertalschule I | C60: LTS | D60: WK III männlich | F60: 59 | G60: Georg-Christoph-Lichtenberg-Schule OR | H60: GCLS | I60: WK II mixed
A61: 68 | B61: Lüdertalschule II | C61: LTS II | D61: WK III männlich
A62: 69 | B62: Rabanus-Maurus-Schule Fulda | C62: RMS | D62: WK III männlich | F62: 13 | G62: Prälat-Diehl-Schule Groß-Gerau | H62: PDS | I62: WK III männlich
A63: 70 | B63: Fürst-Johann-Ludwig-Schule Hadamar | C63: FJLS | D63: WK III männlich | F63: 14 | G63: Georg-Büchner-Schule Stadtallendorf | H63: GBSS II | I63: WK III männlich
A64: 71 | B64: August-Hermann-Francke Schule Gießen I | C64: AHFS | D64: WK III männlich | F64: 61 | G64: Gerhart-Hauptmann-Schule | H64: GHS | I64: WK III männlich
A65: 72 | B65: August-Hermann-Francke Schule Gießen II | C65: AHFS II | D65: WK III männlich | F65: 62 | G65: Gesamtschule Ebsdorfer Grund | H65: GEG | I65: WK III männlich
A66: 73 | B66: Ludwig-Georgs-Gymnasium | C66: LGG | D66: WK III männlich | F66: 63 | G66: Friedrich-Ebert-Schule | H66: FES | I66: WK III männlich
A67: 74 | B67: Alexander-von-Humboldt Schule I | C67: AVH | D67: WK III männlich | F67: 64 | G67: Erich Kästner-Schule Darmstadt | H67: EKS | I67: WK III männlich
A68: 75 | B68: Alexander-von-Humboldt Schule II | C68: AVH II | D68: WK III männlich | F68: 66 | G68: Eleonorenschule Darmstadt | H68: ELO | I68: WK III männlich
A69: 76 | B69: Schule auf der Aue Münster | C69: SAA | D69: WK III männlich | F69: 67 | G69: Lüdertalschule | H69: LTS | I69: WK III männlich
A70: 77 | B70: Georg-Büchner-Schule Stadtallendorf | C70: GBSS | D70: WK III männlich | F70: 68 | G70: Lüdertalschule | H70: LTS II | I70: WK III männlich
A71: 79 | B71: Georg-Christoph-Lichtenberg-Schule OR | C71: GCLS | D71: WK III männlich | F71: 69 | G71: Rabanus-Maurus-Schule Fulda | H71: RMS | I71: WK III männlich
A72: 82 | B72: Ludwig-Georgs-Gymnasium | C72: LGG | D72: WK III weiblich | F72: 70 | G72: Fürst-Johann-Ludwig-Schule Hadamar | H72: FJLS | I72: WK III männlich
A73: 83 | B73: Georg-Christoph-Lichtenberg-Schule | C73: GCLS | D73: WK III weiblich | F73: 71 | G73: August-Hermann-Francke Schule Gießen | H73: AHFS | I73: WK III männlich
... A78: 89 | B78: Georg-Christoph-Lichtenberg-Schule OR | C78: GCLS | D78: WK III mixed | F78: 76 | G78: Schule auf der Aue Münster | H78: SAA | I78: WK III männlich
A79: 78 | B79: Westerwaldschule Driedorf | D79: WK III M | F79: 77 | G79: Georg-Büchner-Schule Stadtallendorf | H79: GBSS | I79: WK III männlich
A80: 79 | B80: Georg-Christoph-Lichtenberg-Schule | D80: WK III M | F80: 79 | G80: Georg-Christoph-Lichtenberg-Schule OR | H80: GCLS | I80: WK III männlich
A81: 80
A82: 81 | B82: Schuldorf Bergstraße | D82: WK III W | F82: 82 | G82: Ludwig-Georgs-Gymnasium | H82: LGG | I82: WK III weiblich
A83: 82 | B83: Ludwig-Georgs-Gymnasium Darmstadt | D83: WK III W | F83: 83 | G83: Georg-Christoph-Lichtenberg-Schule | H83: GCLS | I83: WK III weiblich
A84: 83 | B84: Georg-Christoph-Lichtenberg-Schule | D84: WK III W
A85: 84
A86: 85 | B86: Erich Kästner-Schule IGS Darmstadt | D86: WK III X | F86: 85 | G86: Erich Kästner-Schule Darmstadt | H86: EKS | I86: WK III mixed
A87: 86 | B87: Schuldorf Bergstraße | D87: WK III X | F87: 86 | G87: Schuldorf Bergstraße | H87: SBS | I87: WK III mixed
A88: 87 | B88: Fürst-Johann-Ludwig-Schule Hadamar | D88: WK III X | F88: 87 | G88: Fürst-Johann-Ludwig-Schule Hadamar | H88: FJLS | I88: WK III mixed
A89: 88 | B89: Schule auf der Aue Münster (Hessen) | D89: WK III X | F89: 88 | G89: Schule auf der Aue Münster | H89: SAA | I89: WK III mixed
A90: 89 | B90: Georg-Christoph-Lichtenberg-Schule | D90: WK III X | F90: 89 | G90: Georg-Christoph-Lichtenberg-Schule OR | H90: GCLS | I90: WK III mixed
A91: 90
F92: 2 | G92: Lehrerteam IV | H92: PS | I92: WK III mixed
F93: 18 | G93: Lehrerteam I | H93: FL | I93: WK III mixed
F94: 19 | G94: Lehrerteam II | H94: JU | I94: WK III mixed
F95: 23 | G95: Lehrerteam III | H95: GZ | I95: WK III mixed

Sheet Ergebnis
A8: 5.05.2026 Ober-Ramstadt
A10: Rang | B10: StNr | C10: Kürzel | D10: Schule | E10: Runden | F10: Zeit | G10: Rückstand
D12: WK I männlich
A13: 1 | B13: 7 | C13: =VLOOKUP(B13,Liste!A:C,3,FALSE) -> SBS | D13: =VLOOKUP(B13,Liste!A:B,2,FALSE) -> Schuldorf Bergstraße | E13: 5 | F13: 0.025023148 | G13: =F13-F$13 -> 0
A14: 2 | B14: 11 | C14: =VLOOKUP(B14,Liste!A:C,3,FALSE) -> MES | D14: =VLOOKUP(B14,Liste!A:B,2,FALSE) -> Max-Eyth-Schule Dreieich | E14: 5 | F14: 0.025428241 | G14: =F14-F$13 -> 0.00040509259
A15: 3 | B15: 12 | C15: =VLOOKUP(B15,Liste!A:C,3,FALSE) -> GCLS | D15: =VLOOKUP(B15,Liste!A:B,2,FALSE) -> Georg-Christoph-Lichtenberg-Schule | E15: 5 | F15: 0.025474537 | G15: =F15-F$13 -> 0.00045138889
A16: 4 | B16: 9 | C16: =VLOOKUP(B16,Liste!A:C,3,FALSE) -> MPG | D16: =VLOOKUP(B16,Liste!A:B,2,FALSE) -> Mittelpunktschule Gadernheim | E16: 5 | F16: 0.027395833 | G16: =F16-F$13 -> 0.0023726852
A17: 5 | B17: 5 | C17: =VLOOKUP(B17,Liste!A:C,3,FALSE) -> SZM | D17: =VLOOKUP(B17,Liste!A:B,2,FALSE) -> Schulzentrum Marienhöhe | E17: 5 | F17: 0.029606481 | G17: =F17-F$13 -> 0.0045833333
A18: 6 | B18: 1 | C18: =VLOOKUP(B18,Liste!A:C,3,FALSE) -> SBSH | D18: =VLOOKUP(B18,Liste!A:B,2,FALSE) -> Staatliche Berufsschule des bbw Südhessens | E18: 5 | F18: 0.033055556 | G18: =F18-F$13 -> 0.0080324074
A19: 7 | C19: =VLOOKUP(B19,Liste!A:C,3,FALSE) -> #N/A | D19: =VLOOKUP(B19,Liste!A:B,2,FALSE) -> #N/A | G19: =F19-F$13 -> -0.025023148
A20: 8 | C20: =VLOOKUP(B20,Liste!A:C,3,FALSE) -> #N/A | D20: =VLOOKUP(B20,Liste!A:B,2,FALSE) -> #N/A | G20: =F20-F$13 -> -0.025023148
A21: 9 | C21: =VLOOKUP(B21,Liste!A:C,3,FALSE) -> #N/A | D21: =VLOOKUP(B21,Liste!A:B,2,FALSE) -> #N/A | G21: =F21-F$13 -> -0.025023148
A22: 10 | C22: =VLOOKUP(B22,Liste!A:C,3,FALSE) -> #N/A | D22: =VLOOKUP(B22,Liste!A:B,2,FALSE) -> #N/A | G22: =F22-F$13 -> -0.025023148
A23: 11 | C23: =VLOOKUP(B23,Liste!A:C,3,FALSE) -> #N/A | D23: =VLOOKUP(B23,Liste!A:B,2,FALSE) -> #N/A | G23: =F23-F$13 -> -0.025023148
A24: 12 | C24: =VLOOKUP(B24,Liste!A:C,3,FALSE) -> #N/A | D24: =VLOOKUP(B24,Liste!A:B,2,FALSE) -> #N/A | G24: =F24-F$13 -> -0.025023148
A25: 13 | C25: =VLOOKUP(B25,Liste!A:C,3,FALSE) -> #N/A | D25: =VLOOKUP(B25,Liste!A:B,2,FALSE) -> #N/A | G25: =F25-F$13 -> -0.025023148
A26: 14 | C26: =VLOOKUP(B26,Liste!A:C,3,FALSE) -> #N/A | D26: =VLOOKUP(B26,Liste!A:B,2,FALSE) -> #N/A | G26: =F26-F$13 -> -0.025023148
A27: 15 | C27: =VLOOKUP(B27,Liste!A:C,3,FALSE) -> #N/A | D27: =VLOOKUP(B27,Liste!A:B,2,FALSE) -> #N/A | G27: =F27-F$13 -> -0.025023148
A28: 16 | C28: =VLOOKUP(B28,Liste!A:C,3,FALSE) -> #N/A | D28: =VLOOKUP(B28,Liste!A:B,2,FALSE) -> #N/A | G28: =F28-F$13 -> -0.025023148
A29: 17 | C29: =VLOOKUP(B29,Liste!A:C,3,FALSE) -> #N/A | D29: =VLOOKUP(B29,Liste!A:B,2,FALSE) -> #N/A | G29: =F29-F$13 -> -0.025023148
A30: 18 | C30: =VLOOKUP(B30,Liste!A:C,3,FALSE) -> #N/A | D30: =VLOOKUP(B30,Liste!A:B,2,FALSE) -> #N/A | G30: =F30-F$13 -> -0.025023148
A31: 19 | C31: =VLOOKUP(B31,Liste!A:C,3,FALSE) -> #N/A | D31: =VLOOKUP(B31,Liste!A:B,2,FALSE) -> #N/A | G31: =F31-F$13 -> -0.025023148
D33: WK I weiblich
A34: 1 | B34: 16 | C34: =VLOOKUP(B34,Liste!A:C,3,FALSE) -> SBS | D34: =VLOOKUP(B34,Liste!A:B,2,FALSE) -> Schuldorf Bergstraße | E34: 3 | F34: 0.016157407 | G34: =F34-F$34 -> 0
A35: 2 | B35: 17 | C35: =VLOOKUP(B35,Liste!A:C,3,FALSE) -> GCLS | D35: =VLOOKUP(B35,Liste!A:B,2,FALSE) -> Georg-Christoph-Lichtenberg-Schule OR | E35: 3 | F35: 0.018356481 | G35: =F35-F$34 -> 0.0021990741
A36: 3 | B36: 15 | C36: =VLOOKUP(B36,Liste!A:C,3,FALSE) -> FES | D36: =VLOOKUP(B36,Liste!A:B,2,FALSE) -> Friedrich-Ebert-Schule Pfungstadt | E36: 3 | F36: 0.020023148 | G36: =F36-F$34 -> 0.0038657407
A37: 4 | C37: =VLOOKUP(B37,Liste!A:C,3,FALSE) -> #N/A | D37: =VLOOKUP(B37,Liste!A:B,2,FALSE) -> #N/A | G37: =F37-F$34 -> -0.016157407
A38: 5 | C38: =VLOOKUP(B38,Liste!A:C,3,FALSE) -> #N/A | D38: =VLOOKUP(B38,Liste!A:B,2,FALSE) -> #N/A | G38: =F38-F$34 -> -0.016157407
D40: WK I mixed
A41: 1 | B41: 21 | C41: =VLOOKUP(B41,Liste!A:C,3,FALSE) -> BBS | D41: =VLOOKUP(B41,Liste!A:B,2,FALSE) -> Bertolt-Brecht-Schule | E41: 5 | F41: 0.028125 | G41: =F41-F$41 -> 0
A42: 2 | B42: 20 | C42: =VLOOKUP(B42,Liste!A:C,3,FALSE) -> GHS | D42: =VLOOKUP(B42,Liste!A:B,2,FALSE) -> Gerhart-Hauptmann-Schule Rüsselsheim | E42: 5 | F42: 0.028240741 | G42: =F42-F$41 -> 0.00011574074
A43: 3 | B43: 22 | C43: =VLOOKUP(B43,Liste!A:C,3,FALSE) -> WWS | D43: =VLOOKUP(B43,Liste!A:B,2,FALSE) -> Westerwaldschule Driedorf | E43: 5 | F43: 0.028611111 | G43: =F43-F$41 -> 0.00048611111
A44: 4 | C44: =VLOOKUP(B44,Liste!A:C,3,FALSE) -> #N/A | D44: =VLOOKUP(B44,Liste!A:B,2,FALSE) -> #N/A | E44: 5 | G44: =F44-F$41 -> -0.028125
A45: 5 | C45: =VLOOKUP(B45,Liste!A:C,3,FALSE) -> #N/A | D45: =VLOOKUP(B45,Liste!A:B,2,FALSE) -> #N/A | G45: =F45-F$41 -> -0.028125
A46: 6 | C46: =VLOOKUP(B46,Liste!A:C,3,FALSE) -> #N/A | D46: =VLOOKUP(B46,Liste!A:B,2,FALSE) -> #N/A | G46: =F46-F$41 -> -0.028125
D49: WK II männlich
A50: 1 | B50: 36 | C50: =VLOOKUP(B50,Liste!A:C,3,FALSE) -> AHFS | D50: =VLOOKUP(B50,Liste!A:B,2,FALSE) -> August-Hermann-Francke Schule Gießen | E50: 5 | F50: 0.022928241 | G50: =F50-F$50 -> 0
A51: 2 | B51: 43 | C51: =VLOOKUP(B51,Liste!A:C,3,FALSE) -> GCLS | D51: =VLOOKUP(B51,Liste!A:B,2,FALSE) -> Georg-Christoph-Lichtenberg-Schule OR | E51: 5 | F51: 0.023252315 | G51: =F51-F$50 -> 0.00032407407
A52: 3 | B52: 25 | C52: =VLOOKUP(B52,Liste!A:C,3,FALSE) -> JCSS | D52: =VLOOKUP(B52,Liste!A:B,2,FALSE) -> Johann-Christian-Senckenberg-Schule Runkel | E52: 5 | F52: 0.026400463 | G52: =F52-F$50 -> 0.0034722222
A53: 4 | B53: 26 | C53: =VLOOKUP(B53,Liste!A:C,3,FALSE) -> LSG I | D53: =VLOOKUP(B53,Liste!A:B,2,FALSE) -> Liebigschule Gießen | E53: 5 | F53: 0.027673611 | G53: =F53-F$50 -> 0.0047453704
A54: 5 | B54: 41 | C54: =VLOOKUP(B54,Liste!A:C,3,FALSE) -> WWS | D54: =VLOOKUP(B54,Liste!A:B,2,FALSE) -> Westerwaldschule Driedorf I | E54: 5 | F54: 0.028703704 | G54: =F54-F$50 -> 0.005775463
A55: 6 | B55: 40 | C55: =VLOOKUP(B55,Liste!A:C,3,FALSE) -> MPG II | D55: =VLOOKUP(B55,Liste!A:B,2,FALSE) -> Mittelpunktschule Gadernheim II | E55: 5 | F55: 0.02912037 | G55: =F55-F$50 -> 0.0061921296
A56: 7 | B56: 35 | C56: =VLOOKUP(B56,Liste!A:C,3,FALSE) -> FJLS 2 | D56: =VLOOKUP(B56,Liste!A:B,2,FALSE) -> Fürst-Johann-Ludwig-Schule Hadamar II | E56: 5 | F56: 0.029965278 | G56: =F56-F$50 -> 0.007037037
A57: 8 | B57: 30 | C57: =VLOOKUP(B57,Liste!A:C,3,FALSE) -> GHS | D57: =VLOOKUP(B57,Liste!A:B,2,FALSE) -> Gerhart-Hauptmann-Schule | E57: 5 | F57: 0.030428241 | G57: =F57-F$50 -> 0.0075
A58: 9 | B58: 27 | C58: =VLOOKUP(B58,Liste!A:C,3,FALSE) -> LSG II | D58: =VLOOKUP(B58,Liste!A:B,2,FALSE) -> Liebigschule Gießen | E58: 5 | F58: 0.030439815 | G58: =F58-F$50 -> 0.0075115741
A59: 10 | B59: 3 | C59: =VLOOKUP(B59,Liste!A:C,3,FALSE) -> SBW | D59: =VLOOKUP(B59,Liste!A:B,2,FALSE) -> Schule an der Brühlsbacher Warte 1 | E59: 5 | F59: 0.030462963 | G59: =F59-F$50 -> 0.0075347222
A60: 11 | B60: 32 | C60: =VLOOKUP(B60,Liste!A:C,3,FALSE) -> ELO | D60: =VLOOKUP(B60,Liste!A:B,2,FALSE) -> Eleonorenschule Darmstadt I | E60: 5 | F60: 0.031354167 | G60: =F60-F$50 -> 0.0084259259
A61: 12 | B61: 28 | C61: =VLOOKUP(B61,Liste!A:C,3,FALSE) -> SZM | D61: =VLOOKUP(B61,Liste!A:B,2,FALSE) -> Schulzentrum Marienhöhe I | E61: 5 | F61: 0.031469907 | G61: =F61-F$50 -> 0.0085416667
... A68: 19 | B68: 37 | C68: =VLOOKUP(B68,Liste!A:C,3,FALSE) -> AVH | D68: =VLOOKUP(B68,Liste!A:B,2,FALSE) -> Alexander-von-Humboldt-Schule Aßlar | E68: 5 | F68: 0.035648148 | G68: =F68-F$50 -> 0.012719907
A69: 20 | C69: =VLOOKUP(B69,Liste!A:C,3,FALSE) -> #N/A | D69: =VLOOKUP(B69,Liste!A:B,2,FALSE) -> #N/A | G69: =F69-F$50 -> -0.022928241
D71: WK II weiblich
A72: 1 | B72: 45 | C72: =VLOOKUP(B72,Liste!A:C,3,FALSE) -> FES | D72: =VLOOKUP(B72,Liste!A:B,2,FALSE) -> Friedrich-Ebert-Schule Pfungstadt | E72: 3 | F72: 0.017118056 | G72: =F72-F$72 -> 0
A73: 2 | B73: 50 | C73: =VLOOKUP(B73,Liste!A:C,3,FALSE) -> GCLS | D73: =VLOOKUP(B73,Liste!A:B,2,FALSE) -> Georg-Christoph-Lichtenberg-Schule | E73: 3 | F73: 0.017905093 | G73: =F73-F$72 -> 0.00078703704
A74: 3 | B74: 48 | C74: =VLOOKUP(B74,Liste!A:C,3,FALSE) -> SBS | D74: =VLOOKUP(B74,Liste!A:B,2,FALSE) -> Schuldorf Bergstraße | E74: 3 | F74: 0.019224537 | G74: =F74-F$72 -> 0.0021064815
A75: 4 | B75: 47 | C75: =VLOOKUP(B75,Liste!A:C,3,FALSE) -> EKS II | D75: =VLOOKUP(B75,Liste!A:B,2,FALSE) -> Erich Kästner-Schule DA II | E75: 3 | F75: 0.019247685 | G75: =F75-F$72 -> 0.0021296296
A76: 5 | B76: 46 | C76: =VLOOKUP(B76,Liste!A:C,3,FALSE) -> EKS I | D76: =VLOOKUP(B76,Liste!A:B,2,FALSE) -> Erich Kästner-Schule DA I | E76: 3 | F76: 0.019386574 | G76: =F76-F$72 -> 0.0022685185
A77: 6 | C77: =VLOOKUP(B77,Liste!A:C,3,FALSE) -> #N/A | D77: =VLOOKUP(B77,Liste!A:B,2,FALSE) -> #N/A | G77: =F77-F$72 -> -0.017118056
A78: 7 | C78: =VLOOKUP(B78,Liste!A:C,3,FALSE) -> #N/A | D78: =VLOOKUP(B78,Liste!A:B,2,FALSE) -> #N/A | G78: =F78-F$72 -> -0.017118056
D81: WK II mixed
A82: 1 | B82: 52 | C82: =VLOOKUP(B82,Liste!A:C,3,FALSE) -> MPS | D82: =VLOOKUP(B82,Liste!A:B,2,FALSE) -> Max-Planck Schule Rüsselsheim | E82: 5 | F82: 0.023148148 | G82: =F82-F$82 -> 0
A83: 2 | B83: 59 | C83: =VLOOKUP(B83,Liste!A:C,3,FALSE) -> GCLS | D83: =VLOOKUP(B83,Liste!A:B,2,FALSE) -> Georg-Christoph-Lichtenberg-Schule OR | E83: 5 | F83: 0.025960648 | G83: =F83-F$82 -> 0.0028125
A84: 3 | B84: 8 | C84: =VLOOKUP(B84,Liste!A:C,3,FALSE) -> PDS | D84: =VLOOKUP(B84,Liste!A:B,2,FALSE) -> Prälat-Diehl-Schule Groß-Gerau | E84: 5 | F84: 0.026041667 | G84: =F84-F$82 -> 0.0028935185
A85: 4 | B85: 57 | C85: =VLOOKUP(B85,Liste!A:C,3,FALSE) -> LGG | D85: =VLOOKUP(B85,Liste!A:B,2,FALSE) -> Ludwig-Georgs-Gymnasium DA | E85: 5 | F85: 0.026539352 | G85: =F85-F$82 -> 0.0033912037
A86: 5 | B86: 58 | C86: =VLOOKUP(B86,Liste!A:C,3,FALSE) -> GBSS | D86: =VLOOKUP(B86,Liste!A:B,2,FALSE) -> Georg-Büchner-Schule Stadtallendorf | E86: 5 | F86: 0.032280093 | G86: =F86-F$82 -> 0.0091319444
A87: 6 | B87: 55 | C87: =VLOOKUP(B87,Liste!A:C,3,FALSE) -> HVG | D87: =VLOOKUP(B87,Liste!A:B,2,FALSE) -> Heinrich-von-Gagern Schule Weilburg | E87: 5 | F87: 0.032731481 | G87: =F87-F$82 -> 0.0095833333
A88: 7 | B88: 54 | C88: =VLOOKUP(B88,Liste!A:C,3,FALSE) -> ELO | D88: =VLOOKUP(B88,Liste!A:B,2,FALSE) -> Eleonorenschule DA | E88: 5 | F88: 0.034513889 | G88: =F88-F$82 -> 0.011365741
A89: 8 | C89: =VLOOKUP(B89,Liste!A:C,3,FALSE) -> #N/A | D89: =VLOOKUP(B89,Liste!A:B,2,FALSE) -> #N/A | E89: 5 | G89: =F89-F$82 -> -0.023148148
A90: 9 | C90: =VLOOKUP(B90,Liste!A:C,3,FALSE) -> #N/A | D90: =VLOOKUP(B90,Liste!A:B,2,FALSE) -> #N/A | E90: 5 | G90: =F90-F$82 -> -0.023148148
D92: WK III männlich
A93: 1 | B93: 72 | C93: =VLOOKUP(B93,Liste!A:C,3,FALSE) -> AHFS II | D93: =VLOOKUP(B93,Liste!A:B,2,FALSE) -> August-Hermann-Francke Schule Gießen II | E93: 5 | F93: 0.026770833 | G93: =F93-F$93 -> 0
A94: 2 | B94: 79 | C94: =VLOOKUP(B94,Liste!A:C,3,FALSE) -> GCLS | D94: =VLOOKUP(B94,Liste!A:B,2,FALSE) -> Georg-Christoph-Lichtenberg-Schule OR | E94: 5 | F94: 0.028101852 | G94: =F94-F$93 -> 0.0013310185
A95: 3 | B95: 71 | C95: =VLOOKUP(B95,Liste!A:C,3,FALSE) -> AHFS | D95: =VLOOKUP(B95,Liste!A:B,2,FALSE) -> August-Hermann-Francke Schule Gießen I | E95: 5 | F95: 0.029583333 | G95: =F95-F$93 -> 0.0028125
A96: 4 | B96: 67 | C96: =VLOOKUP(B96,Liste!A:C,3,FALSE) -> LTS | D96: =VLOOKUP(B96,Liste!A:B,2,FALSE) -> Lüdertalschule I | E96: 5 | F96: 0.030659722 | G96: =F96-F$93 -> 0.0038888889
A97: 5 | B97: 63 | C97: =VLOOKUP(B97,Liste!A:C,3,FALSE) -> FES | D97: =VLOOKUP(B97,Liste!A:B,2,FALSE) -> Friedrich-Ebert-Schule | E97: 5 | F97: 0.030671296 | G97: =F97-F$93 -> 0.003900463
A98: 6 | B98: 76 | C98: =VLOOKUP(B98,Liste!A:C,3,FALSE) -> SAA | D98: =VLOOKUP(B98,Liste!A:B,2,FALSE) -> Schule auf der Aue Münster | E98: 5 | F98: 0.030949074 | G98: =F98-F$93 -> 0.0041782407
A99: 7 | B99: 13 | C99: =VLOOKUP(B99,Liste!A:C,3,FALSE) -> PDS | D99: =VLOOKUP(B99,Liste!A:B,2,FALSE) -> Prälat-Diehl-Schule Groß-Gerau | E99: 5 | F99: 0.030949074 | G99: =F99-F$93 -> 0.0041782407
A100: 8 | B100: 69 | C100: =VLOOKUP(B100,Liste!A:C,3,FALSE) -> RMS | D100: =VLOOKUP(B100,Liste!A:B,2,FALSE) -> Rabanus-Maurus-Schule Fulda | E100: 5 | F100: 0.031909722 | G100: =F100-F$93 -> 0.0051388889
A101: 9 | B101: 62 | C101: =VLOOKUP(B101,Liste!A:C,3,FALSE) -> GEG | D101: =VLOOKUP(B101,Liste!A:B,2,FALSE) -> Gesamtschule Ebsdorfer Grund | E101: 5 | F101: 0.032268519 | G101: =F101-F$93 -> 0.0054976852
A102: 10 | B102: 66 | C102: =VLOOKUP(B102,Liste!A:C,3,FALSE) -> ELO | D102: =VLOOKUP(B102,Liste!A:B,2,FALSE) -> Eleonorenschule Darmstadt | E102: 5 | F102: 0.032337963 | G102: =F102-F$93 -> 0.0055671296
A103: 11 | B103: 70 | C103: =VLOOKUP(B103,Liste!A:C,3,FALSE) -> FJLS | D103: =VLOOKUP(B103,Liste!A:B,2,FALSE) -> Fürst-Johann-Ludwig-Schule Hadamar | E103: 5 | F103: 0.03306713 | G103: =F103-F$93 -> 0.0062962963
A104: 12 | B104: 14 | C104: =VLOOKUP(B104,Liste!A:C,3,FALSE) -> GBSS II | D104: =VLOOKUP(B104,Liste!A:B,2,FALSE) -> Georg-Büchner-Schule Stadtallendorf | E104: 5 | F104: 0.033877315 | G104: =F104-F$93 -> 0.0071064815
... A110: 18 | B110: 74 | C110: =VLOOKUP(B110,Liste!A:C,3,FALSE) -> AVH | D110: =VLOOKUP(B110,Liste!A:B,2,FALSE) -> Alexander-von-Humboldt Schule I | E110: 5 | F110: 0.03787037 | G110: =F110-F$93 -> 0.011099537
A111: 19 | C111: =VLOOKUP(B111,Liste!A:C,3,FALSE) -> #N/A | D111: =VLOOKUP(B111,Liste!A:B,2,FALSE) -> #N/A | G111: =F111-F$93 -> -0.026770833
A112: 20 | C112: =VLOOKUP(B112,Liste!A:C,3,FALSE) -> #N/A | D112: =VLOOKUP(B112,Liste!A:B,2,FALSE) -> #N/A | G112: =F112-F$93 -> -0.026770833
D114: WK III weiblich
A115: 1 | B115: 83 | C115: =VLOOKUP(B115,Liste!A:C,3,FALSE) -> GCLS | D115: =VLOOKUP(B115,Liste!A:B,2,FALSE) -> Georg-Christoph-Lichtenberg-Schule | E115: 3 | F115: 0.019953704 | G115: =F115-F$115 -> 0
A116: 2 | B116: 82 | C116: =VLOOKUP(B116,Liste!A:C,3,FALSE) -> LGG | D116: =VLOOKUP(B116,Liste!A:B,2,FALSE) -> Ludwig-Georgs-Gymnasium | E116: 3 | F116: 0.025844907 | G116: =F116-F$115 -> 0.0058912037
A117: 3 | C117: =VLOOKUP(B117,Liste!A:C,3,FALSE) -> #N/A | D117: =VLOOKUP(B117,Liste!A:B,2,FALSE) -> #N/A | E117: 3 | G117: =F117-F$115 -> -0.019953704
A118: 4 | C118: =VLOOKUP(B118,Liste!A:C,3,FALSE) -> #N/A | D118: =VLOOKUP(B118,Liste!A:B,2,FALSE) -> #N/A | G118: =F118-F$115 -> -0.019953704
A119: 5 | C119: =VLOOKUP(B119,Liste!A:C,3,FALSE) -> #N/A | D119: =VLOOKUP(B119,Liste!A:B,2,FALSE) -> #N/A | G119: =F119-F$93 -> -0.026770833
A120: 6 | C120: =VLOOKUP(B120,Liste!A:C,3,FALSE) -> #N/A | D120: =VLOOKUP(B120,Liste!A:B,2,FALSE) -> #N/A | G120: =F120-F$93 -> -0.026770833
D122: WK III mixed
A123: 1 | B123: 89 | C123: =VLOOKUP(B123,Liste!A:C,3,FALSE) -> GCLS | D123: =VLOOKUP(B123,Liste!A:B,2,FALSE) -> Georg-Christoph-Lichtenberg-Schule OR | E123: 5 | F123: 0.030497685 | G123: =F123-F$123 -> 0
A124: 2 | B124: 85 | C124: =VLOOKUP(B124,Liste!A:C,3,FALSE) -> EKS | D124: =VLOOKUP(B124,Liste!A:B,2,FALSE) -> Erich Kästner-Schule Darmstadt | E124: 5 | F124: 0.031238426 | G124: =F124-F$123 -> 0.00074074074
A125: 3 | B125: 86 | C125: =VLOOKUP(B125,Liste!A:C,3,FALSE) -> SBS | D125: =VLOOKUP(B125,Liste!A:B,2,FALSE) -> Schuldorf Bergstraße | E125: 5 | F125: 0.031805556 | G125: =F125-F$123 -> 0.0013078704
A126: 4 | B126: 88 | C126: =VLOOKUP(B126,Liste!A:C,3,FALSE) -> SAA | D126: =VLOOKUP(B126,Liste!A:B,2,FALSE) -> Schule auf der Aue Münster | E126: 5 | F126: 0.032662037 | G126: =F126-F$123 -> 0.0021643519
A127: 5 | B127: 87 | C127: =VLOOKUP(B127,Liste!A:C,3,FALSE) -> FJLS | D127: =VLOOKUP(B127,Liste!A:B,2,FALSE) -> Fürst-Johann-Ludwig-Schule Hadamar | E127: 5 | F127: 0.038726852 | G127: =F127-F$123 -> 0.0082291667
A128: 6 | C128: =VLOOKUP(B128,Liste!A:C,3,FALSE) -> #N/A | D128: =VLOOKUP(B128,Liste!A:B,2,FALSE) -> #N/A | E128: 5 | G128: =F128-F$123 -> -0.030497685
D142: Lehrteams
A143: 1 | B143: 19 | C143: =VLOOKUP(B143,Liste!A:C,3,FALSE) -> JU | D143: =VLOOKUP(B143,Liste!A:B,2,FALSE) -> Lehrerteam II | E143: 5 | F143: 0.024548611 | G143: =F143-F$143 -> 0
...
