Workbook

Sheet Liste
A1: Nr | B1: Schule | C1: Kürzel | D1: WK-Klasse
A2: 1 | B2: Staatliche Berufsschule des bbw Südhessens | C2: SBSH | D2: WK I männlich | F2: 1 | G2: Staatliche Berufsschule des bbw Südhessens | H2: SBSH | I2: WK I männlich
A3: 2 | B3: Lehrerteam IV | C3: PS | D3: WK III mixed | F3: 5 | G3: Schulzentrum Marienhöhe | H3: SZM | I3: WK I männlich
A4: 3 | B4: Schule an der Brühlsbacher Warte 1 | C4: SBW | D4: WK II männlich | F4: 6 | G4: Kaufmännische Schulen Marburg | H4: KSM | I4: WK I männlich
A5: 4 | B5: Schule an der Brühlsbacher Warte 2 | C5: SBW II | D5: WK II männlich | F5: 7 | G5: Schuldorf Bergstraße | H5: SBS | I5: WK I männlich
A6: 5 | B6: Schulzentrum Marienhöhe | C6: SZM | D6: WK I männlich | F6: 9 | G6: Mittelpunktschule Gadernheim | H6: MPG | I6: WK I männlich
A7: 6 | B7: Kaufmännische Schulen Marburg | C7: KSM | D7: WK I männlich | F7: 10 | G7: Georg-Büchner-Schule Stadtallendorf | H7: GBSS | I7: WK I männlich
A8: 7 | B8: Schuldorf Bergstraße | C8: SBS | D8: WK I männlich | F8: 11 | G8: Max-Eyth-Schule Dreieich | H8: MES | I8: WK I männlich
A9: 8 | B9: Prälat-Diehl-Schule Groß-Gerau | C9: PDS | D9: WK II mixed | F9: 12 | G9: Georg-Christoph-Lichtenberg-Schule | H9: GCLS | I9: WK I männlich
A10: 9 | B10: Mittelpunktschule Gadernheim | C10: MPG | D10: WK I männlich
A11: 10 | B11: Georg-Büchner-Schule Stadtallendorf | C11: GBSS | D11: WK I männlich
A12: 11 | B12: Max-Eyth-Schule Dreieich | C12: MES | D12: WK I männlich
A13: 12 | B13: Georg-Christoph-Lichtenberg-Schule | C13: GCLS | D13: WK I männlich
A14: 13 | B14: Prälat-Diehl-Schule Groß-Gerau | C14: PDS | D14: WK III männlich
A15: 14 | B15: Georg-Büchner-Schule Stadtallendorf | C15: GBSS II | D15: WK III männlich | F15: 15 | G15: Friedrich-Ebert-Schule Pfungstadt | H15: FES | I15: WK I weiblich
A16: 15 | B16: Friedrich-Ebert-Schule Pfungstadt | C16: FES | D16: WK I weiblich | F16: 16 | G16: Schuldorf Bergstraße | H16: SBS | I16: WK I weiblich
A17: 16 | B17: Schuldorf Bergstraße | C17: SBS | D17: WK I weiblich | F17: 17 | G17: Georg-Christoph-Lichtenberg-Schule OR | H17: GCLS | I17: WK I weiblich
A18: 17 | B18: Georg-Christoph-Lichtenberg-Schule OR | C18: GCLS | D18: WK I weiblich
A19: 18 | B19: Lehrerteam I | C19: FL | D19: WK III mixed
A20: 19 | B20: Lehrerteam II | C20: JU | D20: WK III mixed | F20: 20 | G20: Gerhart-Hauptmann-Schule Rüsselsheim | H20: GHS | I20: WK I mixed
A21: 20 | B21: Gerhart-Hauptmann-Schule Rüsselsheim | C21: GHS | D21: WK I mixed | F21: 21 | G21: Bertolt-Brecht-Schule | H21: BBS | I21: WK I mixed
A22: 21 | B22: Bertolt-Brecht-Schule | C22: BBS | D22: WK I mixed | F22: 22 | G22: Westerwaldschule Driedorf | H22: WWS | I22: WK I mixed
A23: 22 | B23: Westerwaldschule Driedorf | C23: WWS | D23: WK I mixed
A24: 23 | B24: Lehrerteam III | C24: GZ | D24: WK III mixed
A25: 25 | B25: Johann-Christian-Senckenberg-Schule Runkel | C25: JCSS | D25: WK II männlich
A26: 26 | B26: Liebigschule Gießen | C26: LSG I | D26: WK II männlich | F26: 3 | G26: Schule an der Brühlsbacher Warte | H26: SBW | I26: WK II männlich
A27: 27 | B27: Liebigschule Gießen | C27: LSG II | D27: WK II männlich | F27: 4 | G27: Schule an der Brühlsbacher Warte | H27: SBW II | I27: WK II männlich
A28: 28 | B28: Schulzentrum Marienhöhe I | C28: SZM | D28: WK II männlich | F28: 25 | G28: Johann-Christian-Senckenberg-Schule Runkel | H28: JCSS | I28: WK II männlich
A29: 29 | B29: Schulzentrum Marienhöhe II | C29: SZM II | D29: WK II männlich | F29: 26 | G29: Liebigschule Gießen | H29: LSG I | I29: WK II männlich
A30: 30 | B30: Gerhart-Hauptmann-Schule | C30: GHS | D30: WK II männlich | F30: 27 | G30: Liebigschule Gießen | H30: LSG II | I30: WK II männlich
A31: 32 | B31: Eleonorenschule Darmstadt I | C31: ELO | D31: WK II männlich | F31: 28 | G31: Schulzentrum Marienhöhe | H31: SZM | I31: WK II männlich
A32: 33 | B32: Eleonorenschule Darmstadt II | C32: ELO II | D32: WK II männlich | F32: 29 | G32: Schulzentrum Marienhöhe | H32: SZM II | I32: WK II männlich
A33: 34 | B33: Fürst-Johann-Ludwig-Schule Hadamar I | C33: FJLS | D33: WK II männlich | F33: 30 | G33: Gerhart-Hauptmann-Schule | H33: GHS | I33: WK II männlich
A34: 35 | B34: Fürst-Johann-Ludwig-Schule Hadamar II | C34: FJLS 2 | D34: WK II männlich | F34: 32 | G34: Eleonorenschule Darmstadt | H34: ELO | I34: WK II männlich
A35: 36 | B35: August-Hermann-Francke Schule Gießen | C35: AHFS | D35: WK II männlich | F35: 33 | G35: Eleonorenschule Darmstadt | H35: ELO II | I35: WK II männlich
A36: 37 | B36: Alexander-von-Humboldt-Schule Aßlar | C36: AVH | D36: WK II männlich | F36: 34 | G36: Fürst-Johann-Ludwig-Schule Hadamar | H36: FJLS | I36: WK II männlich
A37: 39 | B37: Mittelpunktschule Gadernheim I | C37: MPG | D37: WK II männlich | F37: 35 | G37: Fürst-Johann-Ludwig-Schule Hadamar | H37: FJLS 2 | I37: WK II männlich
... A44: 47 | B44: Erich Kästner-Schule DA II | C44: EKS II | D44: WK II weiblich | F44: 43 | G44: Georg-Christoph-Lichtenberg-Schule OR | H44: GCLS | I44: WK II männlich
A45: 48 | B45: Schuldorf Bergstraße | C45: SBS | D45: WK II weiblich
A46: 49 | B46: Eleonorenschule DA | C46: ELO | D46: WK II weiblich | F46: 45 | G46: Friedrich-Ebert-Schule Pfungstadt | H46: FES | I46: WK II weiblich
...

Sheet Ergebnis
A8: 5.05.2026 Ober-Ramstadt
A10: Rang | B10: StNr | C10: Kürzel | D10: Schule | E10: Runden | F10: Zeit | G10: Rückstand
D12: WK I männlich
A13: 1 | B13: 7 | C13: =VLOOKUP(B13,Liste!A:C,3,FALSE) -> SBS | D13: =VLOOKUP(B13,Liste!A:B,2,FALSE) -> Schuldorf Bergstraße | E13: 5 | F13: 0.025023148 | G13: =F13-F$13 -> 0
A14: 2 | B14: 11 | C14: =VLOOKUP(B14,Liste!A:C,3,FALSE) -> MES | D14: =VLOOKUP(B14,Liste!A:B,2,FALSE) -> Max-Eyth-Schule Dreieich | E14: 5 | F14: 0.025428241 | G14: =F14-F$13 -> 0.00040509259
A15: 3 | B15: 12 | C15: =VLOOKUP(B15,Liste!A:C,3,FALSE) -> GCLS | D15: =VLOOKUP(B15,Liste!A:B,2,FALSE) -> Georg-Christoph-Lichtenberg-Schule | E15: 5 | F15: 0.025474537 | G15: =F15-F$13 -> 0.00045138889
A16: 4 | B16: 9 | C16: =VLOOKUP(B16,Liste!A:C,3,FALSE) -> MPG | D16: =VLOOKUP(B16,Liste!A:B,2,FALSE) -> Mittelpunktschule Gadernheim | E16: 5 | F16: 0.027395833 | G16: =F16-F$13 -> 0.0023726852
A17: 5 | B17: 5 | C17: =VLOOKUP(B17,Liste!A:C,3,FALSE) -> SZM | D17: =VLOOKUP(B17,Liste!A:B,2,FALSE) -> Schulzentrum Marienhöhe | E17: 5 | F17: 0.029606481 | G17: =F17-F$13 -> 0.0045833333
A18: 6 | B18: 1 | C18: =VLOOKUP(B18,Liste!A:C,3,FALSE) -> SBSH | D18: =VLOOKUP(B18,Liste!A:B,2,FALSE) -> Staatliche Berufsschule des bbw Südhessens | E18: 5 | F18: 0.033055556 | G18: =F18-F$13 -> 0.0080324074
A19: 7 | C19: =VLOOKUP(B19,Liste!A:C,3,FALSE) -> #N/A | D19: =VLOOKUP(B19,Liste!A:B,2,FALSE) -> #N/A | G19: =F19-F$13 -> -0.025023148
A20: 8 | C20: =VLOOKUP(B20,Liste!A:C,3,FALSE) -> #N/A | D20: =VLOOKUP(B20,Liste!A:B,2,FALSE) -> #N/A | G20: =F20-F$13 -> -0.025023148
A21: 9 | C21: =VLOOKUP(B21,Liste!A:C,3,FALSE) -> #N/A | D21: =VLOOKUP(B21,Liste!A:B,2,FALSE) -> #N/A | G21: =F21-F$13 -> -0.025023148
A22: 10 | C22: =VLOOKUP(B22,Liste!A:C,3,FALSE) -> #N/A | D22: =VLOOKUP(B22,Liste!A:B,2,FALSE) -> #N/A | G22: =F22-F$13 -> -0.025023148
A23: 11 | C23: =VLOOKUP(B23,Liste!A:C,3,FALSE) -> #N/A | D23: =VLOOKUP(B23,Liste!A:B,2,FALSE) -> #N/A | G23: =F23-F$13 -> -0.025023148
A24: 12 | C24: =VLOOKUP(B24,Liste!A:C,3,FALSE) -> #N/A | D24: =VLOOKUP(B24,Liste!A:B,2,FALSE) -> #N/A | G24: =F24-F$13 -> -0.025023148
A25: 13 | C25: =VLOOKUP(B25,Liste!A:C,3,FALSE) -> #N/A | D25: =VLOOKUP(B25,Liste!A:B,2,FALSE) -> #N/A | G25: =F25-F$13 -> -0.025023148
A26: 14 | C26: =VLOOKUP(B26,Liste!A:C,3,FALSE) -> #N/A | D26: =VLOOKUP(B26,Liste!A:B,2,FALSE) -> #N/A | G26: =F26-F$13 -> -0.025023148
A27: 15 | C27: =VLOOKUP(B27,Liste!A:C,3,FALSE) -> #N/A | D27: =VLOOKUP(B27,Liste!A:B,2,FALSE) -> #N/A | G27: =F27-F$13 -> -0.025023148
A28: 16 | C28: =VLOOKUP(B28,Liste!A:C,3,FALSE) -> #N/A | D28: =VLOOKUP(B28,Liste!A:B,2,FALSE) -> #N/A | G28: =F28-F$13 -> -0.025023148
A29: 17 | C29: =VLOOKUP(B29,Liste!A:C,3,FALSE) -> #N/A | D29: =VLOOKUP(B29,Liste!A:B,2,FALSE) -> #N/A | G29: =F29-F$13 -> -0.025023148
A30: 18 | C30: =VLOOKUP(B30,Liste!A:C,3,FALSE) -> #N/A | D30: =VLOOKUP(B30,Liste!A:B,2,FALSE) -> #N/A | G30: =F30-F$13 -> -0.025023148
A31: 19 | C31: =VLOOKUP(B31,Liste!A:C,3,FALSE) -> #N/A | D31: =VLOOKUP(B31,Liste!A:B,2,FALSE) -> #N/A | G31: =F31-F$13 -> -0.025023148
D33: WK I weiblich
A34: 1 | B34: 16 | C34: =VLOOKUP(B34,Liste!A:C,3,FALSE) -> SBS | D34: =VLOOKUP(B34,Liste!A:B,2,FALSE) -> Schuldorf Bergstraße | E34: 3 | F34: 0.016157407 | G34: =F34-F$34 -> 0
A35: 2 | B35: 17 | C35: =VLOOKUP(B35,Liste!A:C,3,FALSE) -> GCLS | D35: =VLOOKUP(B35,Liste!A:B,2,FALSE) -> Georg-Christoph-Lichtenberg-Schule OR | E35: 3 | F35: 0.018356481 | G35: =F35-F$34 -> 0.0021990741
A36: 3 | B36: 15 | C36: =VLOOKUP(B36,Liste!A:C,3,FALSE) -> FES | D36: =VLOOKUP(B36,Liste!A:B,2,FALSE) -> Friedrich-Ebert-Schule Pfungstadt | E36: 3 | F36: 0.020023148 | G36: =F36-F$34 -> 0.0038657407
A37: 4 | C37: =VLOOKUP(B37,Liste!A:C,3,FALSE) -> #N/A | D37: =VLOOKUP(B37,Liste!A:B,2,FALSE) -> #N/A | G37: =F37-F$34 -> -0.016157407
A38: 5 | C38: =VLOOKUP(B38,Liste!A:C,3,FALSE) -> #N/A | D38: =VLOOKUP(B38,Liste!A:B,2,FALSE) -> #N/A | G38: =F38-F$34 -> -0.016157407
D40: WK I mixed
A41: 1 | B41: 21 | C41: =VLOOKUP(B41,Liste!A:C,3,FALSE) -> BBS | D41: =VLOOKUP(B41,Liste!A:B,2,FALSE) -> Bertolt-Brecht-Schule | E41: 5 | F41: 0.028125 | G41: =F41-F$41 -> 0
A42: 2 | B42: 20 | C42: =VLOOKUP(B42,Liste!A:C,3,FALSE) -> GHS | D42: =VLOOKUP(B42,Liste!A:B,2,FALSE) -> Gerhart-Hauptmann-Schule Rüsselsheim | E42: 5 | F42: 0.028240741 | G42: =F42-F$41 -> 0.00011574074
A43: 3 | B43: 22 | C43: =VLOOKUP(B43,Liste!A:C,3,FALSE) -> WWS | D43: =VLOOKUP(B43,Liste!A:B,2,FALSE) -> Westerwaldschule Driedorf | E43: 5 | F43: 0.028611111 | G43: =F43-F$41 -> 0.00048611111
A44: 4 | C44: =VLOOKUP(B44,Liste!A:C,3,FALSE) -> #N/A | D44: =VLOOKUP(B44,Liste!A:B,2,FALSE) -> #N/A | E44: 5 | G44: =F44-F$41 -> -0.028125
A45: 5 | C45: =VLOOKUP(B45,Liste!A:C,3,FALSE) -> #N/A | D45: =VLOOKUP(B45,Liste!A:B,2,FALSE) -> #N/A | G45: =F45-F$41 -> -0.028125
A46: 6 | C46: =VLOOKUP(B46,Liste!A:C,3,FALSE) -> #N/A | D46: =VLOOKUP(B46,Liste!A:B,2,FALSE) -> #N/A | G46: =F46-F$41 -> -0.028125
D49: WK II männlich
A50: 1 | B50: 36 | C50: =VLOOKUP(B50,Liste!A:C,3,FALSE) -> AHFS | D50: =VLOOKUP(B50,Liste!A:B,2,FALSE) -> August-Hermann-Francke Schule Gießen | E50: 5 | F50: 0.022928241 | G50: =F50-F$50 -> 0
A51: 2 | B51: 43 | C51: =VLOOKUP(B51,Liste!A:C,3,FALSE) -> GCLS | D51: =VLOOKUP(B51,Liste!A:B,2,FALSE) -> Georg-Christoph-Lichtenberg-Schule OR | E51: 5 | F51: 0.023252315 | G51: =F51-F$50 -> 0.00032407407
A52: 3 | B52: 25 | C52: =VLOOKUP(B52,Liste!A:C,3,FALSE) -> JCSS | D52: =VLOOKUP(B52,Liste!A:B,2,FALSE) -> Johann-Christian-Senckenberg-Schule Runkel | E52: 5 | F52: 0.026400463 | G52: =F52-F$50 -> 0.0034722222
A53: 4 | B53: 26 | C53: =VLOOKUP(B53,Liste!A:C,3,FALSE) -> LSG I | D53: =VLOOKUP(B53,Liste!A:B,2,FALSE) -> Liebigschule Gießen | E53: 5 | F53: 0.027673611 | G53: =F53-F$50 -> 0.0047453704
...
